BEGIN:VCALENDAR
VERSION:2.0
PRODID:-//Nashville NAWBO - ECPv6.15.19//NONSGML v1.0//EN
CALSCALE:GREGORIAN
METHOD:PUBLISH
X-WR-CALNAME:Nashville NAWBO
X-ORIGINAL-URL:https://nashvillenawbo.org
X-WR-CALDESC:Events for Nashville NAWBO
REFRESH-INTERVAL;VALUE=DURATION:PT1H
X-Robots-Tag:noindex
X-PUBLISHED-TTL:PT1H
BEGIN:VTIMEZONE
TZID:America/Chicago
BEGIN:DAYLIGHT
TZOFFSETFROM:-0600
TZOFFSETTO:-0500
TZNAME:CDT
DTSTART:20250309T080000
END:DAYLIGHT
BEGIN:STANDARD
TZOFFSETFROM:-0500
TZOFFSETTO:-0600
TZNAME:CST
DTSTART:20251102T070000
END:STANDARD
BEGIN:DAYLIGHT
TZOFFSETFROM:-0600
TZOFFSETTO:-0500
TZNAME:CDT
DTSTART:20260308T080000
END:DAYLIGHT
BEGIN:STANDARD
TZOFFSETFROM:-0500
TZOFFSETTO:-0600
TZNAME:CST
DTSTART:20261101T070000
END:STANDARD
BEGIN:DAYLIGHT
TZOFFSETFROM:-0600
TZOFFSETTO:-0500
TZNAME:CDT
DTSTART:20270314T080000
END:DAYLIGHT
BEGIN:STANDARD
TZOFFSETFROM:-0500
TZOFFSETTO:-0600
TZNAME:CST
DTSTART:20271107T070000
END:STANDARD
END:VTIMEZONE
BEGIN:VEVENT
DTSTART;TZID=America/Chicago:20260430T110000
DTEND;TZID=America/Chicago:20260430T143000
DTSTAMP:20260423T070803
CREATED:20260410T180238Z
LAST-MODIFIED:20260410T180420Z
UID:10000590-1777546800-1777559400@nashvillenawbo.org
SUMMARY:SheGrow | A Nashville NAWBO Luncheon in Partnership with EO Catalyst
DESCRIPTION:Whether you’re just starting out\, actively scaling\, or leading an established business\, SheGrow is the event built for where you’re going! \n\n\n\nJoin Nashville NAWBO for an energizing afternoon of leadership\, strategy\, and community\, featuring a powerful keynote from Dynasti Hunt\, Founder\, CEO\, Tayden Impact Hunters\, EO Catalyst graduate and dynamic business leader. \n\n\n\nWe’re also excited to announce that EO Nashville is partnering with NAWBO to award two scholarships of up to $1\,000 each toward the EO Catalyst program. This is a one-of-a-kind opportunity for small business owners with at least $250K in gross revenue to break through the $1 million mark through classes\, peer forums\, mentoring\, and high-level networking. Scholarship recipients must be current Nashville NAWBO members. \n\n\n\nFREE validated parking by the NEC for Trolley Barns Garage (at NEC front desk). – 3 hours maximum.
URL:https://nashvillenawbo.org/event/nashville-nawbo-she-grow-eo-catalyst/
LOCATION:Nashville Entrepreneur Center\, 41 Peabody St\, Nashville\, Tennessee\, 37210\, United States
CATEGORIES:Networking
ATTACH;FMTTYPE=image/jpeg:https://nashvillenawbo.org/wp-content/uploads/2026/04/SheGROW-Apr-2026-1-Instagram_new.jpeg
END:VEVENT
END:VCALENDAR